<?xml version="1.0" encoding="UTF-8"?>
<Capabilities xmlns="http://www.opengis.net/wmts/1.0"
xmlns:ows="http://www.opengis.net/ows/1.1"
xmlns:xlink="http://www.w3.org/1999/xlink"
xmlns:xsi="http://www.w3.org/2001/XMLSchema-instance"
xmlns:gml="http://www.opengis.net/gml"
xsi:schemaLocation="http://www.opengis.net/wmts/1.0 http://schemas.opengis.net/wmts/1.0/wmtsGetCapabilities_response.xsd"
version="1.0.0">
<!-- Service Identification --> <ows:ServiceIdentification>
<ows:Title>Imagery_Imagery_Lancaster_2020_CG</ows:Title>
<ows:ServiceType>OGC WMTS</ows:ServiceType>
<ows:ServiceTypeVersion>1.0.0</ows:ServiceTypeVersion>
</ows:ServiceIdentification> <!-- Operations Metadata --> <ows:OperationsMetadata>
<ows:Operation name="GetCapabilities">
<ows:DCP>
<ows:HTTP>
<ows:Get xlink:href="https://gis-f5.unl.edu/unarcgis/rest/services/Imagery/Imagery_Lancaster_2020_CG/ImageServer/WMTS/1.0.0/WMTSCapabilities.xml">
<ows:Constraint name="GetEncoding">
<ows:AllowedValues>
<ows:Value>RESTful</ows:Value>
</ows:AllowedValues>
</ows:Constraint>
</ows:Get>
<!-- add KVP binding in 10.1 -->
<ows:Get xlink:href="https://gis-f5.unl.edu/unarcgis/rest/services/Imagery/Imagery_Lancaster_2020_CG/ImageServer/WMTS?">
<ows:Constraint name="GetEncoding">
<ows:AllowedValues>
<ows:Value>KVP</ows:Value>
</ows:AllowedValues>
</ows:Constraint>
</ows:Get>
</ows:HTTP>
</ows:DCP>
</ows:Operation>
<ows:Operation name="GetTile">
<ows:DCP>
<ows:HTTP>
<ows:Get xlink:href="https://gis-f5.unl.edu/unarcgis/rest/services/Imagery/Imagery_Lancaster_2020_CG/ImageServer/WMTS/tile/1.0.0/">
<ows:Constraint name="GetEncoding">
<ows:AllowedValues>
<ows:Value>RESTful</ows:Value>
</ows:AllowedValues>
</ows:Constraint>
</ows:Get>
<ows:Get xlink:href="https://gis-f5.unl.edu/unarcgis/rest/services/Imagery/Imagery_Lancaster_2020_CG/ImageServer/WMTS?">
<ows:Constraint name="GetEncoding">
<ows:AllowedValues>
<ows:Value>KVP</ows:Value>
</ows:AllowedValues>
</ows:Constraint>
</ows:Get>
</ows:HTTP>
</ows:DCP>
</ows:Operation>
</ows:OperationsMetadata> <Contents>
<!--Layer--> <Layer>
<ows:Title>Imagery_Imagery_Lancaster_2020_CG</ows:Title> <ows:Identifier>Imagery_Imagery_Lancaster_2020_CG</ows:Identifier>
<ows:BoundingBox crs="urn:ogc:def:crs:EPSG::0">
<ows:LowerCorner>-0.5000001303851604 -5279.499999985099</ows:LowerCorner>
<ows:UpperCorner>227798.99999986961 291923.0000000149</ows:UpperCorner>
</ows:BoundingBox> <ows:WGS84BoundingBox crs="urn:ogc:def:crs:OGC:2:84">
<ows:LowerCorner>-97.28275193948758 40.23401756667188</ows:LowerCorner>
<ows:UpperCorner>-96.45691325317512 41.05122216242619</ows:UpperCorner>
</ows:WGS84BoundingBox>
<Style isDefault="true">
<ows:Title>Default Style</ows:Title>
<ows:Identifier>default</ows:Identifier>
</Style>
<Format>image/jpeg</Format>
<TileMatrixSetLink>
<TileMatrixSet>default028mm</TileMatrixSet>
</TileMatrixSetLink>
<ResourceURL format="image/jpeg" resourceType="tile" template="https://gis-f5.unl.edu/unarcgis/rest/services/Imagery/Imagery_Lancaster_2020_CG/ImageServer/WMTS/tile/1.0.0/Imagery_Imagery_Lancaster_2020_CG/{Style}/{TileMatrixSet}/{TileMatrix}/{TileRow}/{TileCol}.jpg" />
</Layer> <!--TileMatrixSet-->
<TileMatrixSet>
<ows:Title>TileMatrix using 0.28mm</ows:Title>
<ows:Abstract>The tile matrix set that has scale values calculated based on the dpi defined by OGC specification (dpi assumes 0.28mm as the physical distance of a pixel).</ows:Abstract> <ows:Identifier>default028mm</ows:Identifier>
<ows:SupportedCRS>urn:ogc:def:crs:EPSG::0</ows:SupportedCRS>
<TileMatrix>
<ows:Identifier>0</ows:Identifier>
<ScaleDenominator>272989.124847263</ScaleDenominator>
<TopLeftCorner>-1.82855E7 1.8192499999999993E7</TopLeftCorner> <TileWidth>256</TileWidth> <TileHeight>256</TileHeight>
<MatrixWidth>289</MatrixWidth> <MatrixHeight>284</MatrixHeight>
</TileMatrix>
<TileMatrix>
<ows:Identifier>1</ows:Identifier>
<ScaleDenominator>136495.03489481454</ScaleDenominator>
<TopLeftCorner>-1.82855E7 1.8192499999999993E7</TopLeftCorner> <TileWidth>256</TileWidth> <TileHeight>256</TileHeight>
<MatrixWidth>577</MatrixWidth> <MatrixHeight>567</MatrixHeight>
</TileMatrix>
<TileMatrix>
<ows:Identifier>2</ows:Identifier>
<ScaleDenominator>68247.51744740727</ScaleDenominator>
<TopLeftCorner>-1.82855E7 1.8192499999999993E7</TopLeftCorner> <TileWidth>256</TileWidth> <TileHeight>256</TileHeight>
<MatrixWidth>1154</MatrixWidth> <MatrixHeight>1134</MatrixHeight>
</TileMatrix>
<TileMatrix>
<ows:Identifier>3</ows:Identifier>
<ScaleDenominator>34123.758723703635</ScaleDenominator>
<TopLeftCorner>-1.82855E7 1.8192499999999993E7</TopLeftCorner> <TileWidth>256</TileWidth> <TileHeight>256</TileHeight>
<MatrixWidth>2307</MatrixWidth> <MatrixHeight>2268</MatrixHeight>
</TileMatrix>
<TileMatrix>
<ows:Identifier>4</ows:Identifier>
<ScaleDenominator>17061.879361851818</ScaleDenominator>
<TopLeftCorner>-1.82855E7 1.8192499999999993E7</TopLeftCorner> <TileWidth>256</TileWidth> <TileHeight>256</TileHeight>
<MatrixWidth>4614</MatrixWidth> <MatrixHeight>4536</MatrixHeight>
</TileMatrix>
<TileMatrix>
<ows:Identifier>5</ows:Identifier>
<ScaleDenominator>8530.939680925909</ScaleDenominator>
<TopLeftCorner>-1.82855E7 1.8192499999999993E7</TopLeftCorner> <TileWidth>256</TileWidth> <TileHeight>256</TileHeight>
<MatrixWidth>9228</MatrixWidth> <MatrixHeight>9071</MatrixHeight>
</TileMatrix>
<TileMatrix>
<ows:Identifier>6</ows:Identifier>
<ScaleDenominator>4265.469840462954</ScaleDenominator>
<TopLeftCorner>-1.82855E7 1.8192499999999993E7</TopLeftCorner> <TileWidth>256</TileWidth> <TileHeight>256</TileHeight>
<MatrixWidth>18456</MatrixWidth> <MatrixHeight>18142</MatrixHeight>
</TileMatrix>
<TileMatrix>
<ows:Identifier>7</ows:Identifier>
<ScaleDenominator>2132.734920231477</ScaleDenominator>
<TopLeftCorner>-1.82855E7 1.8192499999999993E7</TopLeftCorner> <TileWidth>256</TileWidth> <TileHeight>256</TileHeight>
<MatrixWidth>36912</MatrixWidth> <MatrixHeight>36283</MatrixHeight>
</TileMatrix>
<TileMatrix>
<ows:Identifier>8</ows:Identifier>
<ScaleDenominator>1065.894988932701</ScaleDenominator>
<TopLeftCorner>-1.82855E7 1.8192499999999993E7</TopLeftCorner> <TileWidth>256</TileWidth> <TileHeight>256</TileHeight>
<MatrixWidth>73857</MatrixWidth> <MatrixHeight>72598</MatrixHeight>
</TileMatrix>
<TileMatrix>
<ows:Identifier>9</ows:Identifier>
<ScaleDenominator>532.9474944663505</ScaleDenominator>
<TopLeftCorner>-1.82855E7 1.8192499999999993E7</TopLeftCorner> <TileWidth>256</TileWidth> <TileHeight>256</TileHeight>
<MatrixWidth>147713</MatrixWidth> <MatrixHeight>145196</MatrixHeight>
</TileMatrix>
<TileMatrix>
<ows:Identifier>10</ows:Identifier>
<ScaleDenominator>266.47374723317523</ScaleDenominator>
<TopLeftCorner>-1.82855E7 1.8192499999999993E7</TopLeftCorner> <TileWidth>256</TileWidth> <TileHeight>256</TileHeight>
<MatrixWidth>295425</MatrixWidth> <MatrixHeight>290391</MatrixHeight>
</TileMatrix>
<TileMatrix>
<ows:Identifier>11</ows:Identifier>
<ScaleDenominator>133.23687361658762</ScaleDenominator>
<TopLeftCorner>-1.82855E7 1.8192499999999993E7</TopLeftCorner> <TileWidth>256</TileWidth> <TileHeight>256</TileHeight>
<MatrixWidth>590850</MatrixWidth> <MatrixHeight>580781</MatrixHeight>
</TileMatrix>
<TileMatrix>
<ows:Identifier>12</ows:Identifier>
<ScaleDenominator>66.14596562525627</ScaleDenominator>
<TopLeftCorner>-1.82855E7 1.8192499999999993E7</TopLeftCorner> <TileWidth>256</TileWidth> <TileHeight>256</TileHeight>
<MatrixWidth>1190141</MatrixWidth> <MatrixHeight>1169858</MatrixHeight>
</TileMatrix>
</TileMatrixSet>
</Contents>
<ServiceMetadataURL xlink:href="https://gis-f5.unl.edu/unarcgis/rest/services/Imagery/Imagery_Lancaster_2020_CG/ImageServer/WMTS/1.0.0/WMTSCapabilities.xml" /> </Capabilities>
