{
 "currentVersion": 10.81,
 "serviceDescription": "Imagery/Imagery_Lancaster_2022",
 "name": "Imagery/Imagery_Lancaster_2022",
 "description": "",
 "extent": {
  "xmin": 99791.999947195,
  "ymin": 97943.99989440505,
  "xmax": 226512.00248159497,
  "ymax": 290664.00374880503,
  "spatialReference": {
   "wkt": "PROJCS[\"Transverse Mercator\",GEOGCS[\"GCS_North_American_1983\",DATUM[\"D_North_American_1983\",SPHEROID[\"GRS_1980\",6378137.0,298.257222101]],PRIMEM[\"Greenwich\",0.0],UNIT[\"Degree\",0.0174532925199433]],PROJECTION[\"Transverse_Mercator\"],PARAMETER[\"False_Easting\",164041.6666666666],PARAMETER[\"False_Northing\",0.0],PARAMETER[\"Central_Meridian\",-96.68805555555555],PARAMETER[\"Scale_Factor\",1.000054615],PARAMETER[\"Latitude_Of_Origin\",40.25],UNIT[\"Foot_US\",0.3048006096012192]]"
  }
 },
 "initialExtent": {
  "xmin": 99791.999947195,
  "ymin": 97943.99989440505,
  "xmax": 226512.00248159497,
  "ymax": 290664.00374880503,
  "spatialReference": {
   "wkt": "PROJCS[\"Transverse Mercator\",GEOGCS[\"GCS_North_American_1983\",DATUM[\"D_North_American_1983\",SPHEROID[\"GRS_1980\",6378137.0,298.257222101]],PRIMEM[\"Greenwich\",0.0],UNIT[\"Degree\",0.0174532925199433]],PROJECTION[\"Transverse_Mercator\"],PARAMETER[\"False_Easting\",164041.6666666666],PARAMETER[\"False_Northing\",0.0],PARAMETER[\"Central_Meridian\",-96.68805555555555],PARAMETER[\"Scale_Factor\",1.000054615],PARAMETER[\"Latitude_Of_Origin\",40.25],UNIT[\"Foot_US\",0.3048006096012192]]"
  }
 },
 "fullExtent": {
  "xmin": 99791.999947195,
  "ymin": 97943.99989440505,
  "xmax": 226512.00248159497,
  "ymax": 290664.00374880503,
  "spatialReference": {
   "wkt": "PROJCS[\"Transverse Mercator\",GEOGCS[\"GCS_North_American_1983\",DATUM[\"D_North_American_1983\",SPHEROID[\"GRS_1980\",6378137.0,298.257222101]],PRIMEM[\"Greenwich\",0.0],UNIT[\"Degree\",0.0174532925199433]],PROJECTION[\"Transverse_Mercator\"],PARAMETER[\"False_Easting\",164041.6666666666],PARAMETER[\"False_Northing\",0.0],PARAMETER[\"Central_Meridian\",-96.68805555555555],PARAMETER[\"Scale_Factor\",1.000054615],PARAMETER[\"Latitude_Of_Origin\",40.25],UNIT[\"Foot_US\",0.3048006096012192]]"
  }
 },
 "pixelSizeX": 0.16666666999999996,
 "pixelSizeY": 0.16666667,
 "bandCount": 3,
 "pixelType": "U8",
 "minPixelSize": 0,
 "maxPixelSize": 0,
 "copyrightText": "",
 "serviceDataType": "esriImageServiceDataTypeRGB",
 "minValues": [
  0,
  0,
  0
 ],
 "maxValues": [
  255,
  255,
  255
 ],
 "meanValues": [
  151.7240646441884,
  124.85482931833117,
  96.37622310544613
 ],
 "stdvValues": [
  37.12512859607844,
  36.689048002355726,
  33.75895007798775
 ],
 "objectIdField": "OBJECTID",
 "fields": [
  {
   "name": "OBJECTID",
   "type": "esriFieldTypeOID",
   "alias": "OBJECTID",
   "domain": null
  },
  {
   "name": "Name",
   "type": "esriFieldTypeString",
   "alias": "Name",
   "domain": null,
   "length": 200
  },
  {
   "name": "MinPS",
   "type": "esriFieldTypeDouble",
   "alias": "MinPS",
   "domain": null
  },
  {
   "name": "MaxPS",
   "type": "esriFieldTypeDouble",
   "alias": "MaxPS",
   "domain": null
  },
  {
   "name": "LowPS",
   "type": "esriFieldTypeDouble",
   "alias": "LowPS",
   "domain": null
  },
  {
   "name": "HighPS",
   "type": "esriFieldTypeDouble",
   "alias": "HighPS",
   "domain": null
  },
  {
   "name": "Category",
   "type": "esriFieldTypeInteger",
   "alias": "Category",
   "domain": {
    "type": "codedValue",
    "name": "MosaicCatalogItemCategoryDomain",
    "description": "Catalog item categories.",
    "codedValues": [
     {
      "name": "Unknown",
      "code": 0
     },
     {
      "name": "Primary",
      "code": 1
     },
     {
      "name": "Overview",
      "code": 2
     },
     {
      "name": "Unprocessed Overview",
      "code": 3
     },
     {
      "name": "Partial Overview",
      "code": 4
     },
     {
      "name": "Uploaded",
      "code": 253
     },
     {
      "name": "Incomplete",
      "code": 254
     },
     {
      "name": "Custom",
      "code": 255
     }
    ],
    "mergePolicy": "esriMPTDefaultValue",
    "splitPolicy": "esriSPTDefaultValue"
   }
  },
  {
   "name": "Tag",
   "type": "esriFieldTypeString",
   "alias": "Tag",
   "domain": null,
   "length": 100
  },
  {
   "name": "GroupName",
   "type": "esriFieldTypeString",
   "alias": "GroupName",
   "domain": null,
   "length": 100
  },
  {
   "name": "ProductName",
   "type": "esriFieldTypeString",
   "alias": "ProductName",
   "domain": null,
   "length": 100
  },
  {
   "name": "CenterX",
   "type": "esriFieldTypeDouble",
   "alias": "CenterX",
   "domain": null
  },
  {
   "name": "CenterY",
   "type": "esriFieldTypeDouble",
   "alias": "CenterY",
   "domain": null
  },
  {
   "name": "ZOrder",
   "type": "esriFieldTypeInteger",
   "alias": "ZOrder",
   "domain": null
  },
  {
   "name": "Shape",
   "type": "esriFieldTypeGeometry",
   "alias": "Shape",
   "domain": null
  },
  {
   "name": "Thumbnail",
   "type": "esriFieldTypeBlob",
   "alias": "Thumbnail",
   "domain": null
  },
  {
   "name": "Shape.STArea()",
   "type": "esriFieldTypeDouble",
   "alias": "Shape.STArea()",
   "domain": null
  },
  {
   "name": "Shape.STLength()",
   "type": "esriFieldTypeDouble",
   "alias": "Shape.STLength()",
   "domain": null
  }
 ],
 "capabilities": "Image,Metadata,Catalog",
 "defaultMosaicMethod": "Northwest",
 "allowedMosaicMethods": "NorthWest,Center,LockRaster,ByAttribute,Nadir,Viewpoint,Seamline,None",
 "sortField": "",
 "sortValue": null,
 "sortAscending": true,
 "mosaicOperator": "First",
 "maxDownloadSizeLimit": 2048,
 "defaultCompressionQuality": 75,
 "defaultResamplingMethod": "Bilinear",
 "maxImageHeight": 4100,
 "maxImageWidth": 15000,
 "maxRecordCount": 1000,
 "maxDownloadImageCount": 20,
 "maxMosaicImageCount": 20,
 "singleFusedMapCache": true,
 "tileInfo": {
  "rows": 256,
  "cols": 256,
  "dpi": 96,
  "format": "JPEG",
  "compressionQuality": 55,
  "origin": {
   "x": -18285500,
   "y": 1.8192499999999993E7
  },
  "spatialReference": {
   "wkt": "PROJCS[\"Transverse Mercator\",GEOGCS[\"GCS_North_American_1983\",DATUM[\"D_North_American_1983\",SPHEROID[\"GRS_1980\",6378137.0,298.257222101]],PRIMEM[\"Greenwich\",0.0],UNIT[\"Degree\",0.0174532925199433]],PROJECTION[\"Transverse_Mercator\"],PARAMETER[\"False_Easting\",164041.6666666666],PARAMETER[\"False_Northing\",0.0],PARAMETER[\"Central_Meridian\",-96.68805555555555],PARAMETER[\"Scale_Factor\",1.000054615],PARAMETER[\"Latitude_Of_Origin\",40.25],UNIT[\"Foot_US\",0.3048006096012192]]"
  },
  "lods": [
   {
    "level": 0,
    "resolution": 250.7769097222222,
    "scale": 288895
   },
   {
    "level": 1,
    "resolution": 125.38888888888889,
    "scale": 144448
   },
   {
    "level": 2,
    "resolution": 62.69444444444444,
    "scale": 72224
   },
   {
    "level": 3,
    "resolution": 31.34722222222222,
    "scale": 36112
   },
   {
    "level": 4,
    "resolution": 15.67361111111111,
    "scale": 18056
   },
   {
    "level": 5,
    "resolution": 7.836805555555555,
    "scale": 9028
   },
   {
    "level": 6,
    "resolution": 3.9184027777777777,
    "scale": 4514
   },
   {
    "level": 7,
    "resolution": 1.9592013888888888,
    "scale": 2257
   },
   {
    "level": 8,
    "resolution": 0.9791666666666666,
    "scale": 1128
   },
   {
    "level": 9,
    "resolution": 0.4895833333333333,
    "scale": 564
   },
   {
    "level": 10,
    "resolution": 0.24479166666666666,
    "scale": 282
   },
   {
    "level": 11,
    "resolution": 0.12239583333333333,
    "scale": 141
   },
   {
    "level": 12,
    "resolution": 0.06076388888888889,
    "scale": 70
   }
  ]
 },
 "cacheType": "Map",
 "allowRasterFunction": true,
 "rasterFunctionInfos": [
  {
   "name": "None",
   "description": "A No-Op Function.",
   "help": ""
  }
 ],
 "rasterTypeInfos": [
  {
   "name": "Raster Dataset",
   "description": "Supports all ArcGIS Raster Datasets",
   "help": ""
  }
 ],
 "mensurationCapabilities": "None",
 "hasHistograms": true,
 "hasColormap": false,
 "hasRasterAttributeTable": false,
 "minScale": 0,
 "maxScale": 0,
 "minLOD": 0,
 "maxLOD": 12,
 "exportTilesAllowed": false,
 "hasMultidimensions": false,
 "supportsStatistics": true,
 "supportsAdvancedQueries": true,
 "editFieldsInfo": null,
 "ownershipBasedAccessControlForRasters": null,
 "allowComputeTiePoints": false,
 "useStandardizedQueries": true,
 "advancedQueryCapabilities": {
  "useStandardizedQueries": true,
  "supportsStatistics": true,
  "supportsOrderBy": true,
  "supportsDistinct": true,
  "supportsPagination": true
 },
 "spatialReference": {
  "wkt": "PROJCS[\"Transverse Mercator\",GEOGCS[\"GCS_North_American_1983\",DATUM[\"D_North_American_1983\",SPHEROID[\"GRS_1980\",6378137.0,298.257222101]],PRIMEM[\"Greenwich\",0.0],UNIT[\"Degree\",0.0174532925199433]],PROJECTION[\"Transverse_Mercator\"],PARAMETER[\"False_Easting\",164041.6666666666],PARAMETER[\"False_Northing\",0.0],PARAMETER[\"Central_Meridian\",-96.68805555555555],PARAMETER[\"Scale_Factor\",1.000054615],PARAMETER[\"Latitude_Of_Origin\",40.25],UNIT[\"Foot_US\",0.3048006096012192]]"
 }
}
