{
 "currentVersion": 10.81,
 "serviceDescription": "Imagery/Imagery_UNMC_UNO_2024",
 "name": "Imagery/Imagery_UNMC_UNO_2024",
 "description": "",
 "extent": {
  "xmin": 137888.0000000007,
  "ymin": 98207.99904939983,
  "xmax": 155047.9993136007,
  "ymax": 111407.99852139983,
  "spatialReference": {
   "wkt": "PROJCS[\"NAD_1983_2011_Nebraska_LDP_Douglas_Sarpy_County_Ft_Intl\",GEOGCS[\"GCS_NAD_1983_2011\",DATUM[\"D_NAD_1983_2011\",SPHEROID[\"GRS_1980\",6378137.0,298.257222101]],PRIMEM[\"Greenwich\",0.0],UNIT[\"Degree\",0.0174532925199433]],PROJECTION[\"Transverse_Mercator\"],PARAMETER[\"False_Easting\",131233.595800525],PARAMETER[\"False_Northing\",82020.99737532809],PARAMETER[\"Central_Meridian\",-96.05],PARAMETER[\"Scale_Factor\",1.0000482],PARAMETER[\"Latitude_Of_Origin\",41.1833333333333],UNIT[\"Foot\",0.3048]]"
  }
 },
 "initialExtent": {
  "xmin": 137888.0000000007,
  "ymin": 98207.99904939983,
  "xmax": 155047.9993136007,
  "ymax": 111407.99852139983,
  "spatialReference": {
   "wkt": "PROJCS[\"NAD_1983_2011_Nebraska_LDP_Douglas_Sarpy_County_Ft_Intl\",GEOGCS[\"GCS_NAD_1983_2011\",DATUM[\"D_NAD_1983_2011\",SPHEROID[\"GRS_1980\",6378137.0,298.257222101]],PRIMEM[\"Greenwich\",0.0],UNIT[\"Degree\",0.0174532925199433]],PROJECTION[\"Transverse_Mercator\"],PARAMETER[\"False_Easting\",131233.595800525],PARAMETER[\"False_Northing\",82020.99737532809],PARAMETER[\"Central_Meridian\",-96.05],PARAMETER[\"Scale_Factor\",1.0000482],PARAMETER[\"Latitude_Of_Origin\",41.1833333333333],UNIT[\"Foot\",0.3048]]"
  }
 },
 "fullExtent": {
  "xmin": 137888.0000000007,
  "ymin": 98207.99904939983,
  "xmax": 155047.9993136007,
  "ymax": 111407.99852139983,
  "spatialReference": {
   "wkt": "PROJCS[\"NAD_1983_2011_Nebraska_LDP_Douglas_Sarpy_County_Ft_Intl\",GEOGCS[\"GCS_NAD_1983_2011\",DATUM[\"D_NAD_1983_2011\",SPHEROID[\"GRS_1980\",6378137.0,298.257222101]],PRIMEM[\"Greenwich\",0.0],UNIT[\"Degree\",0.0174532925199433]],PROJECTION[\"Transverse_Mercator\"],PARAMETER[\"False_Easting\",131233.595800525],PARAMETER[\"False_Northing\",82020.99737532809],PARAMETER[\"Central_Meridian\",-96.05],PARAMETER[\"Scale_Factor\",1.0000482],PARAMETER[\"Latitude_Of_Origin\",41.1833333333333],UNIT[\"Foot\",0.3048]]"
  }
 },
 "pixelSizeX": 0.08333333000000005,
 "pixelSizeY": 0.08333332999999997,
 "bandCount": 3,
 "pixelType": "U8",
 "minPixelSize": 0,
 "maxPixelSize": 0,
 "copyrightText": "",
 "serviceDataType": "esriImageServiceDataTypeRGB",
 "minValues": [
  0,
  0,
  0
 ],
 "maxValues": [
  255,
  255,
  255
 ],
 "meanValues": [
  124.9701428425664,
  118.85692786450534,
  108.92544434241427
 ],
 "stdvValues": [
  56.75670132418413,
  53.75159646923419,
  47.137075723223354
 ],
 "objectIdField": "OBJECTID",
 "fields": [
  {
   "name": "OBJECTID",
   "type": "esriFieldTypeOID",
   "alias": "OBJECTID",
   "domain": null
  },
  {
   "name": "Name",
   "type": "esriFieldTypeString",
   "alias": "Name",
   "domain": null,
   "length": 200
  },
  {
   "name": "MinPS",
   "type": "esriFieldTypeDouble",
   "alias": "MinPS",
   "domain": null
  },
  {
   "name": "MaxPS",
   "type": "esriFieldTypeDouble",
   "alias": "MaxPS",
   "domain": null
  },
  {
   "name": "LowPS",
   "type": "esriFieldTypeDouble",
   "alias": "LowPS",
   "domain": null
  },
  {
   "name": "HighPS",
   "type": "esriFieldTypeDouble",
   "alias": "HighPS",
   "domain": null
  },
  {
   "name": "Category",
   "type": "esriFieldTypeInteger",
   "alias": "Category",
   "domain": {
    "type": "codedValue",
    "name": "MosaicCatalogItemCategoryDomain",
    "description": "Catalog item categories.",
    "codedValues": [
     {
      "name": "Unknown",
      "code": 0
     },
     {
      "name": "Primary",
      "code": 1
     },
     {
      "name": "Overview",
      "code": 2
     },
     {
      "name": "Unprocessed Overview",
      "code": 3
     },
     {
      "name": "Partial Overview",
      "code": 4
     },
     {
      "name": "Inactive",
      "code": 5
     },
     {
      "name": "Uploaded",
      "code": 253
     },
     {
      "name": "Incomplete",
      "code": 254
     },
     {
      "name": "Custom",
      "code": 255
     }
    ],
    "mergePolicy": "esriMPTDefaultValue",
    "splitPolicy": "esriSPTDefaultValue"
   }
  },
  {
   "name": "Tag",
   "type": "esriFieldTypeString",
   "alias": "Tag",
   "domain": null,
   "length": 100
  },
  {
   "name": "GroupName",
   "type": "esriFieldTypeString",
   "alias": "GroupName",
   "domain": null,
   "length": 100
  },
  {
   "name": "ProductName",
   "type": "esriFieldTypeString",
   "alias": "ProductName",
   "domain": null,
   "length": 100
  },
  {
   "name": "CenterX",
   "type": "esriFieldTypeDouble",
   "alias": "CenterX",
   "domain": null
  },
  {
   "name": "CenterY",
   "type": "esriFieldTypeDouble",
   "alias": "CenterY",
   "domain": null
  },
  {
   "name": "ZOrder",
   "type": "esriFieldTypeInteger",
   "alias": "ZOrder",
   "domain": null
  },
  {
   "name": "Shape",
   "type": "esriFieldTypeGeometry",
   "alias": "Shape",
   "domain": null
  },
  {
   "name": "Thumbnail",
   "type": "esriFieldTypeBlob",
   "alias": "Thumbnail",
   "domain": null
  },
  {
   "name": "Shape.STArea()",
   "type": "esriFieldTypeDouble",
   "alias": "Shape.STArea()",
   "domain": null
  },
  {
   "name": "Shape.STLength()",
   "type": "esriFieldTypeDouble",
   "alias": "Shape.STLength()",
   "domain": null
  }
 ],
 "capabilities": "Image,Metadata,Catalog",
 "defaultMosaicMethod": "Northwest",
 "allowedMosaicMethods": "NorthWest,Center,LockRaster,ByAttribute,Nadir,Viewpoint,Seamline,None",
 "sortField": "",
 "sortValue": null,
 "sortAscending": true,
 "mosaicOperator": "First",
 "maxDownloadSizeLimit": 2048,
 "defaultCompressionQuality": 75,
 "defaultResamplingMethod": "Bilinear",
 "maxImageHeight": 4100,
 "maxImageWidth": 15000,
 "maxRecordCount": 1000,
 "maxDownloadImageCount": 20,
 "maxMosaicImageCount": 20,
 "singleFusedMapCache": true,
 "tileInfo": {
  "rows": 256,
  "cols": 256,
  "dpi": 96,
  "format": "JPEG",
  "compressionQuality": 55,
  "origin": {
   "x": -18318200,
   "y": 1.7934400000000007E7
  },
  "spatialReference": {
   "wkt": "PROJCS[\"NAD_1983_2011_Nebraska_LDP_Douglas_Sarpy_County_Ft_Intl\",GEOGCS[\"GCS_NAD_1983_2011\",DATUM[\"D_NAD_1983_2011\",SPHEROID[\"GRS_1980\",6378137.0,298.257222101]],PRIMEM[\"Greenwich\",0.0],UNIT[\"Degree\",0.0174532925199433]],PROJECTION[\"Transverse_Mercator\"],PARAMETER[\"False_Easting\",131233.595800525],PARAMETER[\"False_Northing\",82020.99737532809],PARAMETER[\"Central_Meridian\",-96.05],PARAMETER[\"Scale_Factor\",1.0000482],PARAMETER[\"Latitude_Of_Origin\",41.1833333333333],UNIT[\"Foot\",0.3048]]"
  },
  "lods": [
   {
    "level": 0,
    "resolution": 2507.726369619406,
    "scale": 2888895
   },
   {
    "level": 1,
    "resolution": 125.38913966716822,
    "scale": 144448
   },
   {
    "level": 2,
    "resolution": 62.69456983358411,
    "scale": 72224
   },
   {
    "level": 3,
    "resolution": 31.347284916792056,
    "scale": 36112
   },
   {
    "level": 4,
    "resolution": 15.673642458396028,
    "scale": 18056
   },
   {
    "level": 5,
    "resolution": 7.836821229198014,
    "scale": 9028
   },
   {
    "level": 6,
    "resolution": 3.918410614599007,
    "scale": 4514
   },
   {
    "level": 7,
    "resolution": 1.9592053072995035,
    "scale": 2257
   },
   {
    "level": 8,
    "resolution": 0.9791686250039167,
    "scale": 1128
   },
   {
    "level": 9,
    "resolution": 0.48958431250195833,
    "scale": 564
   },
   {
    "level": 10,
    "resolution": 0.24479215625097916,
    "scale": 282
   },
   {
    "level": 11,
    "resolution": 0.12239607812548958,
    "scale": 141
   },
   {
    "level": 12,
    "resolution": 0.06076401041690972,
    "scale": 70
   }
  ]
 },
 "cacheType": "Map",
 "allowRasterFunction": true,
 "rasterFunctionInfos": [
  {
   "name": "None",
   "description": "",
   "help": ""
  }
 ],
 "rasterTypeInfos": [
  {
   "name": "Raster Dataset",
   "description": "Supports all ArcGIS Raster Datasets",
   "help": ""
  }
 ],
 "mensurationCapabilities": "None",
 "hasHistograms": true,
 "hasColormap": false,
 "hasRasterAttributeTable": false,
 "minScale": 0,
 "maxScale": 0,
 "minLOD": 0,
 "maxLOD": 12,
 "exportTilesAllowed": false,
 "hasMultidimensions": false,
 "supportsStatistics": true,
 "supportsAdvancedQueries": true,
 "editFieldsInfo": null,
 "ownershipBasedAccessControlForRasters": null,
 "allowComputeTiePoints": false,
 "useStandardizedQueries": true,
 "advancedQueryCapabilities": {
  "useStandardizedQueries": true,
  "supportsStatistics": true,
  "supportsOrderBy": true,
  "supportsDistinct": true,
  "supportsPagination": true
 },
 "spatialReference": {
  "wkt": "PROJCS[\"NAD_1983_2011_Nebraska_LDP_Douglas_Sarpy_County_Ft_Intl\",GEOGCS[\"GCS_NAD_1983_2011\",DATUM[\"D_NAD_1983_2011\",SPHEROID[\"GRS_1980\",6378137.0,298.257222101]],PRIMEM[\"Greenwich\",0.0],UNIT[\"Degree\",0.0174532925199433]],PROJECTION[\"Transverse_Mercator\"],PARAMETER[\"False_Easting\",131233.595800525],PARAMETER[\"False_Northing\",82020.99737532809],PARAMETER[\"Central_Meridian\",-96.05],PARAMETER[\"Scale_Factor\",1.0000482],PARAMETER[\"Latitude_Of_Origin\",41.1833333333333],UNIT[\"Foot\",0.3048]]"
 }
}
