View In:
ArcGIS JavaScript
ArcGIS Online Map Viewer
ArcGIS Earth
ArcMap
View Footprint In:
ArcGIS Online Map Viewer
Service Description: Imagery/Imagery_Lancaster_2022
Name: Imagery/Imagery_Lancaster_2022
Description:
Single Fused Map Cache: true
Tile Info:
- Height: 256
- Width: 256
- DPI: 96
-
Levels of Detail: 13
- Format: JPEG
- Compression Quality: 55.0
- LERC Error: NaN
- Origin: X: -1.82855E7
Y: 1.8192499999999993E7
- Spatial Reference: PROJCS["Transverse Mercator",GEOGCS["GCS_North_American_1983",DATUM["D_North_American_1983",SPHEROID["GRS_1980",6378137.0,298.257222101]],PRIMEM["Greenwich",0.0],UNIT["Degree",0.0174532925199433]],PROJECTION["Transverse_Mercator"],PARAMETER["False_Easting",164041.6666666666],PARAMETER["False_Northing",0.0],PARAMETER["Central_Meridian",-96.68805555555555],PARAMETER["Scale_Factor",1.000054615],PARAMETER["Latitude_Of_Origin",40.25],UNIT["Foot_US",0.3048006096012192]]
Extent:
XMin: 99791.999947195
YMin: 97943.99989440505
XMax: 226512.00248159497
YMax: 290664.00374880503
Spatial Reference: PROJCS["Transverse Mercator",GEOGCS["GCS_North_American_1983",DATUM["D_North_American_1983",SPHEROID["GRS_1980",6378137.0,298.257222101]],PRIMEM["Greenwich",0.0],UNIT["Degree",0.0174532925199433]],PROJECTION["Transverse_Mercator"],PARAMETER["False_Easting",164041.6666666666],PARAMETER["False_Northing",0.0],PARAMETER["Central_Meridian",-96.68805555555555],PARAMETER["Scale_Factor",1.000054615],PARAMETER["Latitude_Of_Origin",40.25],UNIT["Foot_US",0.3048006096012192]]
Initial Extent:
XMin: 99791.999947195
YMin: 97943.99989440505
XMax: 226512.00248159497
YMax: 290664.00374880503
Spatial Reference: PROJCS["Transverse Mercator",GEOGCS["GCS_North_American_1983",DATUM["D_North_American_1983",SPHEROID["GRS_1980",6378137.0,298.257222101]],PRIMEM["Greenwich",0.0],UNIT["Degree",0.0174532925199433]],PROJECTION["Transverse_Mercator"],PARAMETER["False_Easting",164041.6666666666],PARAMETER["False_Northing",0.0],PARAMETER["Central_Meridian",-96.68805555555555],PARAMETER["Scale_Factor",1.000054615],PARAMETER["Latitude_Of_Origin",40.25],UNIT["Foot_US",0.3048006096012192]]
Full Extent:
XMin: 99791.999947195
YMin: 97943.99989440505
XMax: 226512.00248159497
YMax: 290664.00374880503
Spatial Reference: PROJCS["Transverse Mercator",GEOGCS["GCS_North_American_1983",DATUM["D_North_American_1983",SPHEROID["GRS_1980",6378137.0,298.257222101]],PRIMEM["Greenwich",0.0],UNIT["Degree",0.0174532925199433]],PROJECTION["Transverse_Mercator"],PARAMETER["False_Easting",164041.6666666666],PARAMETER["False_Northing",0.0],PARAMETER["Central_Meridian",-96.68805555555555],PARAMETER["Scale_Factor",1.000054615],PARAMETER["Latitude_Of_Origin",40.25],UNIT["Foot_US",0.3048006096012192]]
Pixel Size X: 0.16666666999999996
Pixel Size Y: 0.16666667
Band Count: 3
Pixel Type: U8
RasterFunction Infos: {"rasterFunctionInfos": [{
"name": "None",
"description": "A No-Op Function.",
"help": ""
}]}
Mensuration Capabilities: None
Has Histograms: true
Has Colormap: false
Has Multi Dimensions : false
Rendering Rule:
Min Scale: 0
Max Scale: 0
Min LOD: 0
Max LOD: 12
Copyright Text:
Service Data Type: esriImageServiceDataTypeRGB
Min Values: 0, 0, 0
Max Values: 255, 255, 255
Mean Values: 151.7240646441884, 124.85482931833117, 96.37622310544613
Standard Deviation Values: 37.12512859607844, 36.689048002355726, 33.75895007798775
Object ID Field: OBJECTID
Fields:
-
OBJECTID
(
type: esriFieldTypeOID, alias: OBJECTID
)
-
Name
(
type: esriFieldTypeString, alias: Name, length: 200
)
-
MinPS
(
type: esriFieldTypeDouble, alias: MinPS
)
-
MaxPS
(
type: esriFieldTypeDouble, alias: MaxPS
)
-
LowPS
(
type: esriFieldTypeDouble, alias: LowPS
)
-
HighPS
(
type: esriFieldTypeDouble, alias: HighPS
)
-
Category
(
type: esriFieldTypeInteger, alias: Category
, Coded Values:
[0: Unknown]
, [1: Primary]
, [2: Overview]
, ...5 more...
)
-
Tag
(
type: esriFieldTypeString, alias: Tag, length: 100
)
-
GroupName
(
type: esriFieldTypeString, alias: GroupName, length: 100
)
-
ProductName
(
type: esriFieldTypeString, alias: ProductName, length: 100
)
-
CenterX
(
type: esriFieldTypeDouble, alias: CenterX
)
-
CenterY
(
type: esriFieldTypeDouble, alias: CenterY
)
-
ZOrder
(
type: esriFieldTypeInteger, alias: ZOrder
)
-
Shape
(
type: esriFieldTypeGeometry, alias: Shape
)
-
Thumbnail
(
type: esriFieldTypeBlob, alias: Thumbnail
)
-
Shape.STArea()
(
type: esriFieldTypeDouble, alias: Shape.STArea()
)
-
Shape.STLength()
(
type: esriFieldTypeDouble, alias: Shape.STLength()
)
Default Mosaic Method: Northwest
Allowed Mosaic Methods: NorthWest,Center,LockRaster,ByAttribute,Nadir,Viewpoint,Seamline,None
SortField:
SortValue: null
Mosaic Operator: First
Default Compression Quality: 75
Default Resampling Method: Bilinear
Max Record Count: 1000
Max Image Height: 4100
Max Image Width: 15000
Max Download Image Count: 20
Max Mosaic Image Count: 20
Allow Raster Function: true
Allow Copy: null
Allow Analysis: null
Allow Compute TiePoints: false
Supports Statistics: true
Supports Advanced Queries: true
Use StandardizedQueries: true
Raster Type Infos:
Name: Raster Dataset
Description: Supports all ArcGIS Raster Datasets
Help:
Has Raster Attribute Table: false
Edit Fields Info: null
Ownership Based AccessControl For Rasters: null
Child Resources:
Info
Histograms
Key Properties
Legend
Raster Function Infos
Supported Operations:
Export Image
Query
Identify
Compute Histograms
Compute Statistics Histograms
Get Samples
Compute Class Statistics
Query Boundary
Compute Pixel Location
Validate
Project