View In:
ArcGIS JavaScript
ArcGIS Online Map Viewer
ArcGIS Earth
ArcMap
View Footprint In:
ArcGIS Online Map Viewer
Service Description: Imagery/Imagery_UNMC_UNO_2024
Name: Imagery/Imagery_UNMC_UNO_2024
Description:
Single Fused Map Cache: true
Tile Info:
- Height: 256
- Width: 256
- DPI: 96
-
Levels of Detail: 13
- Format: JPEG
- Compression Quality: 55.0
- LERC Error: NaN
- Origin: X: -1.83182E7
Y: 1.7934400000000007E7
- Spatial Reference: PROJCS["NAD_1983_2011_Nebraska_LDP_Douglas_Sarpy_County_Ft_Intl",GEOGCS["GCS_NAD_1983_2011",DATUM["D_NAD_1983_2011",SPHEROID["GRS_1980",6378137.0,298.257222101]],PRIMEM["Greenwich",0.0],UNIT["Degree",0.0174532925199433]],PROJECTION["Transverse_Mercator"],PARAMETER["False_Easting",131233.595800525],PARAMETER["False_Northing",82020.99737532809],PARAMETER["Central_Meridian",-96.05],PARAMETER["Scale_Factor",1.0000482],PARAMETER["Latitude_Of_Origin",41.1833333333333],UNIT["Foot",0.3048]]
Extent:
XMin: 137888.0000000007
YMin: 98207.99904939983
XMax: 155047.9993136007
YMax: 111407.99852139983
Spatial Reference: PROJCS["NAD_1983_2011_Nebraska_LDP_Douglas_Sarpy_County_Ft_Intl",GEOGCS["GCS_NAD_1983_2011",DATUM["D_NAD_1983_2011",SPHEROID["GRS_1980",6378137.0,298.257222101]],PRIMEM["Greenwich",0.0],UNIT["Degree",0.0174532925199433]],PROJECTION["Transverse_Mercator"],PARAMETER["False_Easting",131233.595800525],PARAMETER["False_Northing",82020.99737532809],PARAMETER["Central_Meridian",-96.05],PARAMETER["Scale_Factor",1.0000482],PARAMETER["Latitude_Of_Origin",41.1833333333333],UNIT["Foot",0.3048]]
Initial Extent:
XMin: 137888.0000000007
YMin: 98207.99904939983
XMax: 155047.9993136007
YMax: 111407.99852139983
Spatial Reference: PROJCS["NAD_1983_2011_Nebraska_LDP_Douglas_Sarpy_County_Ft_Intl",GEOGCS["GCS_NAD_1983_2011",DATUM["D_NAD_1983_2011",SPHEROID["GRS_1980",6378137.0,298.257222101]],PRIMEM["Greenwich",0.0],UNIT["Degree",0.0174532925199433]],PROJECTION["Transverse_Mercator"],PARAMETER["False_Easting",131233.595800525],PARAMETER["False_Northing",82020.99737532809],PARAMETER["Central_Meridian",-96.05],PARAMETER["Scale_Factor",1.0000482],PARAMETER["Latitude_Of_Origin",41.1833333333333],UNIT["Foot",0.3048]]
Full Extent:
XMin: 137888.0000000007
YMin: 98207.99904939983
XMax: 155047.9993136007
YMax: 111407.99852139983
Spatial Reference: PROJCS["NAD_1983_2011_Nebraska_LDP_Douglas_Sarpy_County_Ft_Intl",GEOGCS["GCS_NAD_1983_2011",DATUM["D_NAD_1983_2011",SPHEROID["GRS_1980",6378137.0,298.257222101]],PRIMEM["Greenwich",0.0],UNIT["Degree",0.0174532925199433]],PROJECTION["Transverse_Mercator"],PARAMETER["False_Easting",131233.595800525],PARAMETER["False_Northing",82020.99737532809],PARAMETER["Central_Meridian",-96.05],PARAMETER["Scale_Factor",1.0000482],PARAMETER["Latitude_Of_Origin",41.1833333333333],UNIT["Foot",0.3048]]
Pixel Size X: 0.08333333000000005
Pixel Size Y: 0.08333332999999997
Band Count: 3
Pixel Type: U8
RasterFunction Infos: {"rasterFunctionInfos": [{
"name": "None",
"description": "",
"help": ""
}]}
Mensuration Capabilities: None
Has Histograms: true
Has Colormap: false
Has Multi Dimensions : false
Rendering Rule:
Min Scale: 0
Max Scale: 0
Min LOD: 0
Max LOD: 12
Copyright Text:
Service Data Type: esriImageServiceDataTypeRGB
Min Values: 0, 0, 0
Max Values: 255, 255, 255
Mean Values: 124.9701428425664, 118.85692786450534, 108.92544434241427
Standard Deviation Values: 56.75670132418413, 53.75159646923419, 47.137075723223354
Object ID Field: OBJECTID
Fields:
-
OBJECTID
(
type: esriFieldTypeOID, alias: OBJECTID
)
-
Name
(
type: esriFieldTypeString, alias: Name, length: 200
)
-
MinPS
(
type: esriFieldTypeDouble, alias: MinPS
)
-
MaxPS
(
type: esriFieldTypeDouble, alias: MaxPS
)
-
LowPS
(
type: esriFieldTypeDouble, alias: LowPS
)
-
HighPS
(
type: esriFieldTypeDouble, alias: HighPS
)
-
Category
(
type: esriFieldTypeInteger, alias: Category
, Coded Values:
[0: Unknown]
, [1: Primary]
, [2: Overview]
, ...6 more...
)
-
Tag
(
type: esriFieldTypeString, alias: Tag, length: 100
)
-
GroupName
(
type: esriFieldTypeString, alias: GroupName, length: 100
)
-
ProductName
(
type: esriFieldTypeString, alias: ProductName, length: 100
)
-
CenterX
(
type: esriFieldTypeDouble, alias: CenterX
)
-
CenterY
(
type: esriFieldTypeDouble, alias: CenterY
)
-
ZOrder
(
type: esriFieldTypeInteger, alias: ZOrder
)
-
Shape
(
type: esriFieldTypeGeometry, alias: Shape
)
-
Thumbnail
(
type: esriFieldTypeBlob, alias: Thumbnail
)
-
Shape.STArea()
(
type: esriFieldTypeDouble, alias: Shape.STArea()
)
-
Shape.STLength()
(
type: esriFieldTypeDouble, alias: Shape.STLength()
)
Default Mosaic Method: Northwest
Allowed Mosaic Methods: NorthWest,Center,LockRaster,ByAttribute,Nadir,Viewpoint,Seamline,None
SortField:
SortValue: null
Mosaic Operator: First
Default Compression Quality: 75
Default Resampling Method: Bilinear
Max Record Count: 1000
Max Image Height: 4100
Max Image Width: 15000
Max Download Image Count: 20
Max Mosaic Image Count: 20
Allow Raster Function: true
Allow Copy: null
Allow Analysis: null
Allow Compute TiePoints: false
Supports Statistics: true
Supports Advanced Queries: true
Use StandardizedQueries: true
Raster Type Infos:
Name: Raster Dataset
Description: Supports all ArcGIS Raster Datasets
Help:
Has Raster Attribute Table: false
Edit Fields Info: null
Ownership Based AccessControl For Rasters: null
Child Resources:
Info
Histograms
Key Properties
Legend
Raster Function Infos
Supported Operations:
Export Image
Query
Identify
Compute Histograms
Compute Statistics Histograms
Get Samples
Compute Class Statistics
Query Boundary
Compute Pixel Location
Validate
Project